Workbook

Sheet Grundlagen
A1: Grundlagen des Tarifvertrages
A2: Stundenlohn | E2: 14
A3: Zuschlag Sonntag, Feiertag | E3: 0.5
A4: Zuschlag Nachtarbeit (22h - 5h) | C4: 0.91666667 | D4: 0.20833333 | E4: 0.25
A5: Tagegelder: | B5: > 8h abwes. | E5: 12
B6: 24h abwes. | E6: 24
A7: Abzug: bei 8h Einsatz 45min für Pausen
A8: vergütet werden Vor- und Abschlußarbeiten je 15 min | E8: 0.020833333
C9: Lenkzeiten | E9: Warte- und Stehzeiten | G9: bis 3h = | H9: 1
G10: ab 4.h = | H10: 0.5
A12: L | B12: Liegetag
A13: U | B13: Urlaub
A14: K | B14: Krank
C27: 0.33333333 | D27: 0.36458333 | E27: =(D27-C27+(D27<C27))*24 -> 0.75

Sheet RKO Fahrtätigkeit
A1: Arbeitsnachweis inkl. Reisekosten | H1: für: | I1: Oliver Heine | O1: Abrechnungszeitraum | P1: 01.08.2018 – 31.08.2018
A3: Stunden | S3: Spesen
A4: Tag | B4: Datum | C4: BUS | D4: Arbeits- | F4: Standzeit- | H4: Gesamt- stunden | I4: davon | O4: zuzüglich | P4: abzüglich | Q4: zuzüglich | R4: Beschreibung Tätigkeit + außertarifl. Stunden | S4: Abfahrts- | U4: Land/Ort um 24 Uhr | V4: Ankunfts- zeit | W4: Ankunfts- | Y4: Abwesenheitsdauer in Std. ("x")
D5: beginn | E5: ende | F5: beginn | G5: ende | I5: sonst. Arbeitszeit | J5: Standzeit | K5: Stehzeit ab 4.h 50% | L5: Nachtarbeit 22h - 5h +25% | M5: Sonntag 50% | N5: Feiertag 50% | O5: Vor-/Abschluß- arbeiten je 15min | P5: 45min Pause bei 8h Einsatz | Q5: außertarifliche Stunden | S5: land | T5: ort | W5: land | X5: ort | Y5: eintägig > 8 Std. 12,00 € | Z5: mehrtägig An-/Abreise 24,00 € | AA5: 24 Std. 24,00 €
A6: Mi | B6: 43313 | C6: L | H6: =IF(C6="L",7.5,IF(C6="U",7.5,IF(C6="K",7.5,(E6-D6+(E6<D6))*24))) -> 7.5 | J6: =(G6-F6)*24 -> 0 | K6: =IF(J6>3,J6-3,0) -> 0 | L6: =(MAX(0,MIN(Grundlagen!D$4+(Grundlagen!C$4>Grundlagen!D$4),E6+(D6>E6))-MAX(Grundlagen!C$4,D6))+MAX( ,(MIN(Grundlagen!D$4,E6+(D6>E6))-D6)*(Grundlagen!C$4>Grundlagen!D$4))+MAX( ,MIN(Grundlagen!D$4+(Grundlagen!D$4>Grundlagen!D$4),E6+0)-$K$4)*(D6>E6))*24 -> 0 | M6: =IF(A6="So",(E6-D6)*24,0) -> 0 | O6: =IF(D6>0,IF(C6="L",0,IF(C6="U",0,IF(C6="F",0,IF(C6="S",0,IF(R6="Dienst 7118",0,Grundlagen!E$8*24)))))) -> 0 | P6: =IF(R6="Dienst 7118",1,IF(H6>=8,0.75,0)) -> 0 | R6: Alpetours Rom – Liegetag | AA6: 24
A7: Do | B7: 43314 | C7: L | H7: =IF(C7="L",7.5,IF(C7="U",7.5,IF(C7="K",7.5,(E7-D7+(E7<D7))*24))) -> 7.5 | J7: =(G7-F7)*24 -> 0 | K7: =IF(J7>3,J7-3,0) -> 0 | L7: =(MAX(0,MIN(Grundlagen!D$4+(Grundlagen!C$4>Grundlagen!D$4),E7+(D7>E7))-MAX(Grundlagen!C$4,D7))+MAX( ,(MIN(Grundlagen!D$4,E7+(D7>E7))-D7)*(Grundlagen!C$4>Grundlagen!D$4))+MAX( ,MIN(Grundlagen!D$4+(Grundlagen!D$4>Grundlagen!D$4),E7+0)-$K$4)*(D7>E7))*24 -> 0 | M7: =IF(A7="So",(E7-D7)*24,0) -> 0 | O7: =IF(D7>0,IF(C7="L",0,IF(C7="U",0,IF(C7="F",0,IF(C7="S",0,IF(R7="Dienst 7118",0,Grundlagen!E$8*24)))))) -> 0 | P7: =IF(R7="Dienst 7118",1,IF(H7>=8,0.75,0)) -> 0 | R7: Alpetours Rom – Liegetag | AA7: 24
A8: Fr | B8: 43315 | D8: 0.75 | E8: 1 | H8: =IF(C8="L",7.5,IF(C8="U",7.5,IF(C8="K",7.5,(E8-D8+(E8<D8))*24))) -> 6 | J8: =(G8-F8)*24 -> 0 | K8: =IF(J8>3,J8-3,0) -> 0 | L8: =(MAX(0,MIN(Grundlagen!D$4+(Grundlagen!C$4>Grundlagen!D$4),E8+(D8>E8))-MAX(Grundlagen!C$4,D8))+MAX( ,(MIN(Grundlagen!D$4,E8+(D8>E8))-D8)*(Grundlagen!C$4>Grundlagen!D$4))+MAX( ,MIN(Grundlagen!D$4+(Grundlagen!D$4>Grundlagen!D$4),E8+0)-$K$4)*(D8>E8))*24 -> 2 | M8: =IF(A8="So",(E8-D8)*24,0) -> 0 | O8: =IF(D8>0,IF(C8="L",0,IF(C8="U",0,IF(C8="F",0,IF(C8="S",0,IF(R8="Dienst 7118",0,Grundlagen!E$8*24)))))) -> 0.5 | P8: =IF(R8="Dienst 7118",1,IF(H8>=8,0.75,0)) -> 0 | R8: Alpetours Rom – Heimfahrt | AA8: 24
A9: Sa | B9: 43316 | D9: 0 | E9: 0.5625 | H9: =IF(C9="L",7.5,IF(C9="U",7.5,IF(C9="K",7.5,(E9-D9+(E9<D9))*24))) -> 13.5 | J9: =(G9-F9)*24 -> 0 | K9: =IF(J9>3,J9-3,0) -> 0 | L9: =(MAX(0,MIN(Grundlagen!D$4+(Grundlagen!C$4>Grundlagen!D$4),E9+(D9>E9))-MAX(Grundlagen!C$4,D9))+MAX( ,(MIN(Grundlagen!D$4,E9+(D9>E9))-D9)*(Grundlagen!C$4>Grundlagen!D$4))+MAX( ,MIN(Grundlagen!D$4+(Grundlagen!D$4>Grundlagen!D$4),E9+0)-$K$4)*(D9>E9))*24 -> 5 | M9: =IF(A9="So",(E9-D9)*24,0) -> 0 | O9: =IF(D9>0,IF(C9="L",0,IF(C9="U",0,IF(C9="F",0,IF(C9="S",0,IF(R9="Dienst 7118",0,Grundlagen!E$8*24)))))) -> 0 | P9: =IF(R9="Dienst 7118",1,IF(H9>=8,0.75,0)) -> 0.75 | R9: Alpetours Rom – Heimfahrt | AA9: 24
A10: So | B10: 43317 | H10: =IF(C10="L",7.5,IF(C10="U",7.5,IF(C10="K",7.5,(E10-D10+(E10<D10))*24))) -> 0 | J10: =(G10-F10)*24 -> 0 | K10: =IF(J10>3,J10-3,0) -> 0 | L10: =(MAX(0,MIN(Grundlagen!D$4+(Grundlagen!C$4>Grundlagen!D$4),E10+(D10>E10))-MAX(Grundlagen!C$4,D10))+MAX( ,(MIN(Grundlagen!D$4,E10+(D10>E10))-D10)*(Grundlagen!C$4>Grundlagen!D$4))+MAX( ,MIN(Grundlagen!D$4+(Grundlagen!D$4>Grundlagen!D$4),E10+0)-$K$4)*(D10>E10))*24 -> 0 | M10: =IF(A10="So",(E10-D10)*24,0) -> 0 | O10: =IF(D10>0,IF(C10="L",0,IF(C10="U",0,IF(C10="F",0,IF(C10="S",0,IF(R10="Dienst 7118",0,Grundlagen!E$8*24)))))) -> 0 | P10: =IF(R10="Dienst 7118",1,IF(H10>=8,0.75,0)) -> 0 | R10: Frei
A11: Mo | B11: 43318 | H11: =IF(C11="L",7.5,IF(C11="U",7.5,IF(C11="K",7.5,(E11-D11+(E11<D11))*24))) -> 0 | J11: =(G11-F11)*24 -> 0 | K11: =IF(J11>3,J11-3,0) -> 0 | L11: =(MAX(0,MIN(Grundlagen!D$4+(Grundlagen!C$4>Grundlagen!D$4),E11+(D11>E11))-MAX(Grundlagen!C$4,D11))+MAX( ,(MIN(Grundlagen!D$4,E11+(D11>E11))-D11)*(Grundlagen!C$4>Grundlagen!D$4))+MAX( ,MIN(Grundlagen!D$4+(Grundlagen!D$4>Grundlagen!D$4),E11+0)-$K$4)*(D11>E11))*24 -> 0 | M11: =IF(A11="So",(E11-D11)*24,0) -> 0 | O11: =IF(D11>0,IF(C11="L",0,IF(C11="U",0,IF(C11="F",0,IF(C11="S",0,IF(R11="Dienst 7118",0,Grundlagen!E$8*24)))))) -> 0 | P11: =IF(R11="Dienst 7118",1,IF(H11>=8,0.75,0)) -> 0 | R11: Frei
A12: Di | B12: 43319 | C12: 257 | D12: 0.64722222 | E12: 0.061111111 | H12: =IF(C12="L",7.5,IF(C12="U",7.5,IF(C12="K",7.5,(E12-D12+(E12<D12))*24))) -> 9.9333333 | J12: =(G12-F12)*24 -> 0 | K12: =IF(J12>3,J12-3,0) -> 0 | L12: =(MAX(0,MIN(Grundlagen!D$4+(Grundlagen!C$4>Grundlagen!D$4),E12+(D12>E12))-MAX(Grundlagen!C$4,D12))+MAX( ,(MIN(Grundlagen!D$4,E12+(D12>E12))-D12)*(Grundlagen!C$4>Grundlagen!D$4))+MAX( ,MIN(Grundlagen!D$4+(Grundlagen!D$4>Grundlagen!D$4),E12+0)-$K$4)*(D12>E12))*24 -> 4.9333333 | M12: =IF(A12="So",(E12-D12)*24,0) -> 0 | O12: =IF(D12>0,IF(C12="L",0,IF(C12="U",0,IF(C12="F",0,IF(C12="S",0,IF(R12="Dienst 7118",0,Grundlagen!E$8*24)))))) -> 0 | P12: =IF(R12="Dienst 7118",1,IF(H12>=8,0.75,0)) -> 1 | R12: Dienst 7118
A13: Mi | B13: 43320 | C13: 257 | D13: 0.64722222 | E13: 0.061111111 | H13: =IF(C13="L",7.5,IF(C13="U",7.5,IF(C13="K",7.5,(E13-D13+(E13<D13))*24))) -> 9.9333333 | J13: =(G13-F13)*24 -> 0 | K13: =IF(J13>3,J13-3,0) -> 0 | L13: =(MAX(0,MIN(Grundlagen!D$4+(Grundlagen!C$4>Grundlagen!D$4),E13+(D13>E13))-MAX(Grundlagen!C$4,D13))+MAX( ,(MIN(Grundlagen!D$4,E13+(D13>E13))-D13)*(Grundlagen!C$4>Grundlagen!D$4))+MAX( ,MIN(Grundlagen!D$4+(Grundlagen!D$4>Grundlagen!D$4),E13+0)-$K$4)*(D13>E13))*24 -> 4.9333333 | M13: =IF(A13="So",(E13-D13)*24,0) -> 0 | O13: =IF(D13>0,IF(C13="L",0,IF(C13="U",0,IF(C13="F",0,IF(C13="S",0,IF(R13="Dienst 7118",0,Grundlagen!E$8*24)))))) -> 0 | P13: =IF(R13="Dienst 7118",1,IF(H13>=8,0.75,0)) -> 1 | R13: Dienst 7118
A14: Do | B14: 43321 | C14: 257 | D14: 0.64722222 | E14: 0.061111111 | H14: =IF(C14="L",7.5,IF(C14="U",7.5,IF(C14="K",7.5,(E14-D14+(E14<D14))*24))) -> 9.9333333 | J14: =(G14-F14)*24 -> 0 | K14: =IF(J14>3,J14-3,0) -> 0 | L14: =(MAX(0,MIN(Grundlagen!D$4+(Grundlagen!C$4>Grundlagen!D$4),E14+(D14>E14))-MAX(Grundlagen!C$4,D14))+MAX( ,(MIN(Grundlagen!D$4,E14+(D14>E14))-D14)*(Grundlagen!C$4>Grundlagen!D$4))+MAX( ,MIN(Grundlagen!D$4+(Grundlagen!D$4>Grundlagen!D$4),E14+0)-$K$4)*(D14>E14))*24 -> 4.9333333 | M14: =IF(A14="So",(E14-D14)*24,0) -> 0 | O14: =IF(D14>0,IF(C14="L",0,IF(C14="U",0,IF(C14="F",0,IF(C14="S",0,IF(R14="Dienst 7118",0,Grundlagen!E$8*24)))))) -> 0 | P14: =IF(R14="Dienst 7118",1,IF(H14>=8,0.75,0)) -> 1 | R14: Dienst 7118
A15: Fr | B15: 43322 | C15: 320 | D15: 0.64722222 | E15: 0.061111111 | H15: =IF(C15="L",7.5,IF(C15="U",7.5,IF(C15="K",7.5,(E15-D15+(E15<D15))*24))) -> 9.9333333 | J15: =(G15-F15)*24 -> 0 | K15: =IF(J15>3,J15-3,0) -> 0 | L15: =(MAX(0,MIN(Grundlagen!D$4+(Grundlagen!C$4>Grundlagen!D$4),E15+(D15>E15))-MAX(Grundlagen!C$4,D15))+MAX( ,(MIN(Grundlagen!D$4,E15+(D15>E15))-D15)*(Grundlagen!C$4>Grundlagen!D$4))+MAX( ,MIN(Grundlagen!D$4+(Grundlagen!D$4>Grundlagen!D$4),E15+0)-$K$4)*(D15>E15))*24 -> 4.9333333 | M15: =IF(A15="So",(E15-D15)*24,0) -> 0 | O15: =IF(D15>0,IF(C15="L",0,IF(C15="U",0,IF(C15="F",0,IF(C15="S",0,IF(R15="Dienst 7118",0,Grundlagen!E$8*24)))))) -> 0 | P15: =IF(R15="Dienst 7118",1,IF(H15>=8,0.75,0)) -> 1 | R15: Dienst 7118
A16: Sa | B16: 43323 | H16: =IF(C16="L",7.5,IF(C16="U",7.5,IF(C16="K",7.5,(E16-D16+(E16<D16))*24))) -> 0 | J16: =(G16-F16)*24 -> 0 | K16: =IF(J16>3,J16-3,0) -> 0 | M16: =IF(A16="So",(E16-D16)*24,0) -> 0 | O16: =IF(D16>0,IF(C16="L",0,IF(C16="U",0,IF(C16="F",0,IF(C16="S",0,IF(R16="Dienst 7118",0,Grundlagen!E$8*24)))))) -> 0 | P16: =IF(R16="Dienst 7118",1,IF(H16>=8,0.75,0)) -> 0 | R16: Frei
A17: So | B17: 43324 | H17: =IF(C17="L",7.5,IF(C17="U",7.5,IF(C17="K",7.5,(E17-D17+(E17<D17))*24))) -> 0 | J17: =(G17-F17)*24 -> 0 | K17: =IF(J17>3,J17-3,0) -> 0 | L17: =(MAX(0,MIN(Grundlagen!D$4+(Grundlagen!C$4>Grundlagen!D$4),E17+(D17>E17))-MAX(Grundlagen!C$4,D17))+MAX( ,(MIN(Grundlagen!D$4,E17+(D17>E17))-D17)*(Grundlagen!C$4>Grundlagen!D$4))+MAX( ,MIN(Grundlagen!D$4+(Grundlagen!D$4>Grundlagen!D$4),E17+0)-$K$4)*(D17>E17))*24 -> 0 | M17: =IF(A17="So",(E17-D17)*24,0) -> 0 | O17: =IF(D17>0,IF(C17="L",0,IF(C17="U",0,IF(C17="F",0,IF(C17="S",0,IF(R17="Dienst 7118",0,Grundlagen!E$8*24)))))) -> 0 | P17: =IF(R17="Dienst 7118",1,IF(H17>=8,0.75,0)) -> 0 | R17: Frei
A18: Mo | B18: 43325 | H18: =IF(C18="L",7.5,IF(C18="U",7.5,IF(C18="K",7.5,(E18-D18+(E18<D18))*24))) -> 0 | J18: =(G18-F18)*24 -> 0 | K18: =IF(J18>3,J18-3,0) -> 0 | L18: =(MAX(0,MIN(Grundlagen!D$4+(Grundlagen!C$4>Grundlagen!D$4),E18+(D18>E18))-MAX(Grundlagen!C$4,D18))+MAX( ,(MIN(Grundlagen!D$4,E18+(D18>E18))-D18)*(Grundlagen!C$4>Grundlagen!D$4))+MAX( ,MIN(Grundlagen!D$4+(Grundlagen!D$4>Grundlagen!D$4),E18+0)-$K$4)*(D18>E18))*24 -> 0 | M18: =IF(A18="So",(E18-D18)*24,0) -> 0 | O18: =IF(D18>0,IF(C18="L",0,IF(C18="U",0,IF(C18="F",0,IF(C18="S",0,IF(R18="Dienst 7118",0,Grundlagen!E$8*24)))))) -> 0 | P18: =IF(R18="Dienst 7118",1,IF(H18>=8,0.75,0)) -> 0 | R18: Frei
A19: Di | B19: 43326 | C19: 278 | D19: 0.82291667 | E19: 0.41666667 | H19: =IF(C19="L",7.5,IF(C19="U",7.5,IF(C19="K",7.5,(E19-D19+(E19<D19))*24))) -> 14.25 | J19: =(G19-F19)*24 -> 0 | K19: =IF(J19>3,J19-3,0) -> 0 | L19: =(MAX(0,MIN(Grundlagen!D$4+(Grundlagen!C$4>Grundlagen!D$4),E19+(D19>E19))-MAX(Grundlagen!C$4,D19))+MAX( ,(MIN(Grundlagen!D$4,E19+(D19>E19))-D19)*(Grundlagen!C$4>Grundlagen!D$4))+MAX( ,MIN(Grundlagen!D$4+(Grundlagen!D$4>Grundlagen!D$4),E19+0)-$K$4)*(D19>E19))*24 -> 12 | M19: =IF(A19="So",(E19-D19)*24,0) -> 0 | O19: =IF(D19>0,IF(C19="L",0,IF(C19="U",0,IF(C19="F",0,IF(C19="S",0,IF(R19="Dienst 7118",0,Grundlagen!E$8*24)))))) -> 0.5 | P19: =IF(R19="Dienst 7118",1,IF(H19>=8,0.75,0)) -> 0.75 | R19: FA Nr: 1525 – Mali Losinj
A20: Mi | B20: 43327 | C20: 278 | D20: 0.75 | E20: 1 | H20: =IF(C20="L",7.5,IF(C20="U",7.5,IF(C20="K",7.5,(E20-D20+(E20<D20))*24))) -> 6 | J20: =(G20-F20)*24 -> 0 | K20: =IF(J20>3,J20-3,0) -> 0 | L20: =(MAX(0,MIN(Grundlagen!D$4+(Grundlagen!C$4>Grundlagen!D$4),E20+(D20>E20))-MAX(Grundlagen!C$4,D20))+MAX( ,(MIN(Grundlagen!D$4,E20+(D20>E20))-D20)*(Grundlagen!C$4>Grundlagen!D$4))+MAX( ,MIN(Grundlagen!D$4+(Grundlagen!D$4>Grundlagen!D$4),E20+0)-$K$4)*(D20>E20))*24 -> 2 | M20: =IF(A20="So",(E20-D20)*24,0) -> 0 | O20: =IF(D20>0,IF(C20="L",0,IF(C20="U",0,IF(C20="F",0,IF(C20="S",0,IF(R20="Dienst 7118",0,Grundlagen!E$8*24)))))) -> 0.5 | P20: =IF(R20="Dienst 7118",1,IF(H20>=8,0.75,0)) -> 0 | R20: FA Nr: 1525 – Mali Losinj
A21: Do | B21: 43328 | C21: 278 | D21: 0 | E21: 0.625 | H21: =IF(C21="L",7.5,IF(C21="U",7.5,IF(C21="K",7.5,(E21-D21+(E21<D21))*24))) -> 15 | J21: =(G21-F21)*24 -> 0 | K21: =IF(J21>3,J21-3,0) -> 0 | L21: =(MAX(0,MIN(Grundlagen!D$4+(Grundlagen!C$4>Grundlagen!D$4),E21+(D21>E21))-MAX(Grundlagen!C$4,D21))+MAX( ,(MIN(Grundlagen!D$4,E21+(D21>E21))-D21)*(Grundlagen!C$4>Grundlagen!D$4))+MAX( ,MIN(Grundlagen!D$4+(Grundlagen!D$4>Grundlagen!D$4),E21+0)-$K$4)*(D21>E21))*24 -> 5 | M21: =IF(A21="So",(E21-D21)*24,0) -> 0 | O21: =IF(D21>0,IF(C21="L",0,IF(C21="U",0,IF(C21="F",0,IF(C21="S",0,IF(R21="Dienst 7118",0,Grundlagen!E$8*24)))))) -> 0 | P21: =IF(R21="Dienst 7118",1,IF(H21>=8,0.75,0)) -> 0.75 | R21: FA Nr: 1525 – Mali Losinj
A22: Fr | B22: 43329 | H22: =IF(C22="L",7.5,IF(C22="U",7.5,IF(C22="K",7.5,(E22-D22+(E22<D22))*24))) -> 0 | J22: =(G22-F22)*24 -> 0 | K22: =IF(J22>3,J22-3,0) -> 0 | L22: =(MAX(0,MIN(Grundlagen!D$4+(Grundlagen!C$4>Grundlagen!D$4),E22+(D22>E22))-MAX(Grundlagen!C$4,D22))+MAX( ,(MIN(Grundlagen!D$4,E22+(D22>E22))-D22)*(Grundlagen!C$4>Grundlagen!D$4))+MAX( ,MIN(Grundlagen!D$4+(Grundlagen!D$4>Grundlagen!D$4),E22+0)-$K$4)*(D22>E22))*24 -> 0 | M22: =IF(A22="So",(E22-D22)*24,0) -> 0 | O22: =IF(D22>0,IF(C22="L",0,IF(C22="U",0,IF(C22="F",0,IF(C22="S",0,IF(R22="Dienst 7118",0,Grundlagen!E$8*24)))))) -> 0 | P22: =IF(R22="Dienst 7118",1,IF(H22>=8,0.75,0)) -> 0
A23: Sa | B23: 43330 | H23: =IF(C23="L",7.5,IF(C23="U",7.5,IF(C23="K",7.5,(E23-D23+(E23<D23))*24))) -> 0 | J23: =(G23-F23)*24 -> 0 | K23: =IF(J23>3,J23-3,0) -> 0 | L23: =(MAX(0,MIN(Grundlagen!D$4+(Grundlagen!C$4>Grundlagen!D$4),E23+(D23>E23))-MAX(Grundlagen!C$4,D23))+MAX( ,(MIN(Grundlagen!D$4,E23+(D23>E23))-D23)*(Grundlagen!C$4>Grundlagen!D$4))+MAX( ,MIN(Grundlagen!D$4+(Grundlagen!D$4>Grundlagen!D$4),E23+0)-$K$4)*(D23>E23))*24 -> 0 | M23: =IF(A23="So",(E23-D23)*24,0) -> 0 | O23: =IF(D23>0,IF(C23="L",0,IF(C23="U",0,IF(C23="F",0,IF(C23="S",0,IF(R23="Dienst 7118",0,Grundlagen!E$8*24)))))) -> 0 | P23: =IF(R23="Dienst 7118",1,IF(H23>=8,0.75,0)) -> 0
A24: So | B24: 43331 | H24: =IF(C24="L",7.5,IF(C24="U",7.5,IF(C24="K",7.5,(E24-D24+(E24<D24))*24))) -> 0 | J24: =(G24-F24)*24 -> 0 | K24: =IF(J24>3,J24-3,0) -> 0 | L24: =(MAX(0,MIN(Grundlagen!D$4+(Grundlagen!C$4>Grundlagen!D$4),E24+(D24>E24))-MAX(Grundlagen!C$4,D24))+MAX( ,(MIN(Grundlagen!D$4,E24+(D24>E24))-D24)*(Grundlagen!C$4>Grundlagen!D$4))+MAX( ,MIN(Grundlagen!D$4+(Grundlagen!D$4>Grundlagen!D$4),E24+0)-$K$4)*(D24>E24))*24 -> 0 | M24: =IF(A24="So",(E24-D24)*24,0) -> 0 | O24: =IF(D24>0,IF(C24="L",0,IF(C24="U",0,IF(C24="F",0,IF(C24="S",0,IF(R24="Dienst 7118",0,Grundlagen!E$8*24)))))) -> 0 | P24: =IF(R24="Dienst 7118",1,IF(H24>=8,0.75,0)) -> 0
A25: Mo | B25: 43332 | H25: =IF(C25="L",7.5,IF(C25="U",7.5,IF(C25="K",7.5,(E25-D25+(E25<D25))*24))) -> 0 | J25: =(G25-F25)*24 -> 0 | K25: =IF(J25>3,J25-3,0) -> 0 | L25: =(MAX(0,MIN(Grundlagen!D$4+(Grundlagen!C$4>Grundlagen!D$4),E25+(D25>E25))-MAX(Grundlagen!C$4,D25))+MAX( ,(MIN(Grundlagen!D$4,E25+(D25>E25))-D25)*(Grundlagen!C$4>Grundlagen!D$4))+MAX( ,MIN(Grundlagen!D$4+(Grundlagen!D$4>Grundlagen!D$4),E25+0)-$K$4)*(D25>E25))*24 -> 0 | M25: =IF(A25="So",(E25-D25)*24,0) -> 0 | O25: =IF(D25>0,IF(C25="L",0,IF(C25="U",0,IF(C25="F",0,IF(C25="S",0,IF(R25="Dienst 7118",0,Grundlagen!E$8*24)))))) -> 0 | P25: =IF(R25="Dienst 7118",1,IF(H25>=8,0.75,0)) -> 0
A26: Di | B26: 43333 | H26: =IF(C26="L",7.5,IF(C26="U",7.5,IF(C26="K",7.5,(E26-D26+(E26<D26))*24))) -> 0 | J26: =(G26-F26)*24 -> 0 | K26: =IF(J26>3,J26-3,0) -> 0 | L26: =(MAX(0,MIN(Grundlagen!D$4+(Grundlagen!C$4>Grundlagen!D$4),E26+(D26>E26))-MAX(Grundlagen!C$4,D26))+MAX( ,(MIN(Grundlagen!D$4,E26+(D26>E26))-D26)*(Grundlagen!C$4>Grundlagen!D$4))+MAX( ,MIN(Grundlagen!D$4+(Grundlagen!D$4>Grundlagen!D$4),E26+0)-$K$4)*(D26>E26))*24 -> 0 | M26: =IF(A26="So",(E26-D26)*24,0) -> 0 | O26: =IF(D26>0,IF(C26="L",0,IF(C26="U",0,IF(C26="F",0,IF(C26="S",0,IF(R26="Dienst 7118",0,Grundlagen!E$8*24)))))) -> 0 | P26: =IF(R26="Dienst 7118",1,IF(H26>=8,0.75,0)) -> 0
A27: Mi | B27: 43334 | H27: =IF(C27="L",7.5,IF(C27="U",7.5,IF(C27="K",7.5,(E27-D27+(E27<D27))*24))) -> 0 | J27: =(G27-F27)*24 -> 0 | K27: =IF(J27>3,J27-3,0) -> 0 | L27: =(MAX(0,MIN(Grundlagen!D$4+(Grundlagen!C$4>Grundlagen!D$4),E27+(D27>E27))-MAX(Grundlagen!C$4,D27))+MAX( ,(MIN(Grundlagen!D$4,E27+(D27>E27))-D27)*(Grundlagen!C$4>Grundlagen!D$4))+MAX( ,MIN(Grundlagen!D$4+(Grundlagen!D$4>Grundlagen!D$4),E27+0)-$K$4)*(D27>E27))*24 -> 0 | M27: =IF(A27="So",(E27-D27)*24,0) -> 0 | O27: =IF(D27>0,IF(C27="L",0,IF(C27="U",0,IF(C27="F",0,IF(C27="S",0,IF(R27="Dienst 7118",0,Grundlagen!E$8*24)))))) -> 0 | P27: =IF(R27="Dienst 7118",1,IF(H27>=8,0.75,0)) -> 0
A28: Do | B28: 43335 | H28: =IF(C28="L",7.5,IF(C28="U",7.5,IF(C28="K",7.5,(E28-D28+(E28<D28))*24))) -> 0 | J28: =(G28-F28)*24 -> 0 | K28: =IF(J28>3,J28-3,0) -> 0 | L28: =(MAX(0,MIN(Grundlagen!D$4+(Grundlagen!C$4>Grundlagen!D$4),E28+(D28>E28))-MAX(Grundlagen!C$4,D28))+MAX( ,(MIN(Grundlagen!D$4,E28+(D28>E28))-D28)*(Grundlagen!C$4>Grundlagen!D$4))+MAX( ,MIN(Grundlagen!D$4+(Grundlagen!D$4>Grundlagen!D$4),E28+0)-$K$4)*(D28>E28))*24 -> 0 | M28: =IF(A28="So",(E28-D28)*24,0) -> 0 | O28: =IF(D28>0,IF(C28="L",0,IF(C28="U",0,IF(C28="F",0,IF(C28="S",0,IF(R28="Dienst 7118",0,Grundlagen!E$8*24)))))) -> 0 | P28: =IF(R28="Dienst 7118",1,IF(H28>=8,0.75,0)) -> 0
A29: Fr | B29: 43336 | H29: =IF(C29="L",7.5,IF(C29="U",7.5,IF(C29="K",7.5,(E29-D29+(E29<D29))*24))) -> 0 | J29: =(G29-F29)*24 -> 0 | K29: =IF(J29>3,J29-3,0) -> 0 | L29: =(MAX(0,MIN(Grundlagen!D$4+(Grundlagen!C$4>Grundlagen!D$4),E29+(D29>E29))-MAX(Grundlagen!C$4,D29))+MAX( ,(MIN(Grundlagen!D$4,E29+(D29>E29))-D29)*(Grundlagen!C$4>Grundlagen!D$4))+MAX( ,MIN(Grundlagen!D$4+(Grundlagen!D$4>Grundlagen!D$4),E29+0)-$K$4)*(D29>E29))*24 -> 0 | M29: =IF(A29="So",(E29-D29)*24,0) -> 0 | O29: =IF(D29>0,IF(C29="L",0,IF(C29="U",0,IF(C29="F",0,IF(C29="S",0,IF(R29="Dienst 7118",0,Grundlagen!E$8*24)))))) -> 0 | P29: =IF(R29="Dienst 7118",1,IF(H29>=8,0.75,0)) -> 0
A30: Sa | B30: 43337 | H30: =IF(C30="L",7.5,IF(C30="U",7.5,IF(C30="K",7.5,(E30-D30+(E30<D30))*24))) -> 0 | J30: =(G30-F30)*24 -> 0 | K30: =IF(J30>3,J30-3,0) -> 0 | L30: =(MAX(0,MIN(Grundlagen!D$4+(Grundlagen!C$4>Grundlagen!D$4),E30+(D30>E30))-MAX(Grundlagen!C$4,D30))+MAX( ,(MIN(Grundlagen!D$4,E30+(D30>E30))-D30)*(Grundlagen!C$4>Grundlagen!D$4))+MAX( ,MIN(Grundlagen!D$4+(Grundlagen!D$4>Grundlagen!D$4),E30+0)-$K$4)*(D30>E30))*24 -> 0 | M30: =IF(A30="So",(E30-D30)*24,0) -> 0 | O30: =IF(D30>0,IF(C30="L",0,IF(C30="U",0,IF(C30="F",0,IF(C30="S",0,IF(R30="Dienst 7118",0,Grundlagen!E$8*24)))))) -> 0 | P30: =IF(R30="Dienst 7118",1,IF(H30>=8,0.75,0)) -> 0
A31: So | B31: 43338 | H31: =IF(C31="L",7.5,IF(C31="U",7.5,IF(C31="K",7.5,(E31-D31+(E31<D31))*24))) -> 0 | J31: =(G31-F31)*24 -> 0 | K31: =IF(J31>3,J31-3,0) -> 0 | L31: =(MAX(0,MIN(Grundlagen!D$4+(Grundlagen!C$4>Grundlagen!D$4),E31+(D31>E31))-MAX(Grundlagen!C$4,D31))+MAX( ,(MIN(Grundlagen!D$4,E31+(D31>E31))-D31)*(Grundlagen!C$4>Grundlagen!D$4))+MAX( ,MIN(Grundlagen!D$4+(Grundlagen!D$4>Grundlagen!D$4),E31+0)-$K$4)*(D31>E31))*24 -> 0 | M31: =IF(A31="So",(E31-D31)*24,0) -> 0 | O31: =IF(D31>0,IF(C31="L",0,IF(C31="U",0,IF(C31="F",0,IF(C31="S",0,IF(R31="Dienst 7118",0,Grundlagen!E$8*24)))))) -> 0 | P31: =IF(R31="Dienst 7118",1,IF(H31>=8,0.75,0)) -> 0
A32: Mo | B32: 43339 | H32: =IF(C32="L",7.5,IF(C32="U",7.5,IF(C32="K",7.5,(E32-D32+(E32<D32))*24))) -> 0 | J32: =(G32-F32)*24 -> 0 | K32: =IF(J32>3,J32-3,0) -> 0 | L32: =(MAX(0,MIN(Grundlagen!D$4+(Grundlagen!C$4>Grundlagen!D$4),E32+(D32>E32))-MAX(Grundlagen!C$4,D32))+MAX( ,(MIN(Grundlagen!D$4,E32+(D32>E32))-D32)*(Grundlagen!C$4>Grundlagen!D$4))+MAX( ,MIN(Grundlagen!D$4+(Grundlagen!D$4>Grundlagen!D$4),E32+0)-$K$4)*(D32>E32))*24 -> 0 | M32: =IF(A32="So",(E32-D32)*24,0) -> 0 | O32: =IF(D32>0,IF(C32="L",0,IF(C32="U",0,IF(C32="F",0,IF(C32="S",0,IF(R32="Dienst 7118",0,Grundlagen!E$8*24)))))) -> 0 | P32: =IF(R32="Dienst 7118",1,IF(H32>=8,0.75,0)) -> 0
A33: Di | B33: 43340 | H33: =IF(C33="L",7.5,IF(C33="U",7.5,IF(C33="K",7.5,(E33-D33+(E33<D33))*24))) -> 0 | J33: =(G33-F33)*24 -> 0 | K33: =IF(J33>3,J33-3,0) -> 0 | L33: =(MAX(0,MIN(Grundlagen!D$4+(Grundlagen!C$4>Grundlagen!D$4),E33+(D33>E33))-MAX(Grundlagen!C$4,D33))+MAX( ,(MIN(Grundlagen!D$4,E33+(D33>E33))-D33)*(Grundlagen!C$4>Grundlagen!D$4))+MAX( ,MIN(Grundlagen!D$4+(Grundlagen!D$4>Grundlagen!D$4),E33+0)-$K$4)*(D33>E33))*24 -> 0 | M33: =IF(A33="So",(E33-D33)*24,0) -> 0 | O33: =IF(D33>0,IF(C33="L",0,IF(C33="U",0,IF(C33="F",0,IF(C33="S",0,IF(R33="Dienst 7118",0,Grundlagen!E$8*24)))))) -> 0 | P33: =IF(R33="Dienst 7118",1,IF(H33>=8,0.75,0)) -> 0
... A36: Fr | B36: 43343 | H36: =IF(C36="L",7.5,IF(C36="U",7.5,IF(C36="K",7.5,(E36-D36+(E36<D36))*24))) -> 0 | J36: =(G36-F36)*24 -> 0 | K36: =IF(J36>3,J36-3,0) -> 0 | L36: =(MAX(0,MIN(Grundlagen!D$4+(Grundlagen!C$4>Grundlagen!D$4),E36+(D36>E36))-MAX(Grundlagen!C$4,D36))+MAX( ,(MIN(Grundlagen!D$4,E36+(D36>E36))-D36)*(Grundlagen!C$4>Grundlagen!D$4))+MAX( ,MIN(Grundlagen!D$4+(Grundlagen!D$4>Grundlagen!D$4),E36+0)-$K$4)*(D36>E36))*24 -> 0 | M36: =IF(A36="So",(E36-D36)*24,0) -> 0 | O36: =IF(D36>0,IF(C36="L",0,IF(C36="U",0,IF(C36="F",0,IF(C36="S",0,IF(R36="Dienst 7118",0,Grundlagen!E$8*24)))))) -> 0 | P36: =IF(R36="Dienst 7118",1,IF(H36>=8,0.75,0)) -> 0
H37: =IF(E37<D37,(E37+1)-D37,E37-D37)*24 -> 0 | J37: =(G37-F37)*24 -> 0 | K37: =IF(J37>3,J37-3,0) -> 0 | L37: =(MAX(0,MIN(Grundlagen!D$4+(Grundlagen!C$4>Grundlagen!D$4),E37+(D37>E37))-MAX(Grundlagen!C$4,D37))+MAX( ,(MIN(Grundlagen!D$4,E37+(D37>E37))-D37)*(Grundlagen!C$4>Grundlagen!D$4))+MAX( ,MIN(Grundlagen!D$4+(Grundlagen!D$4>Grundlagen!D$4),E37+0)-$K$4)*(D37>E37))*24 -> 0 | M37: =IF(A37="So",(E37-D37)*24,0) -> 0 | O37: =IF(D37>0,Grundlagen!E$8,0)*24 -> 0 | P37: =IF(H37>=8,0.75,0) -> 0
H38: =SUM(H6:H37)+O38-P38 -> 104.73333 | J38: =SUM(J6:J37) -> 0 | K38: =SUM(K6:K37) -> 0 | L38: =SUM(L6:L37) -> 45.733333 | M38: =SUM(M6:M37) -> 0 | N38: =SUM(N6:N37) -> 0 | O38: =SUM(O6:O37) -> 1.5 | P38: =SUM(P6:P37) -> 6.25
A39: L=Liegetag | C39: U=Urlaub | E39: K=Krank | G39: F=Frei | I39: S=Schulung | Y39: =SUM(Y6:Y38) -> 0 | AA39: =SUM(AA6:AA38) -> 96
